BEGIN:VCALENDAR
VERSION:2.0
PRODID:-//ChamberMaster//Event Calendar 2.0//EN
METHOD:PUBLISH
X-PUBLISHED-TTL:P3D
REFRESH-INTERVAL:P3D
CALSCALE:GREGORIAN
BEGIN:VEVENT
DTSTART:20260627T140000Z
DTEND:20260627T180000Z
X-MICROSOFT-CDO-ALLDAYEVENT:FALSE
SUMMARY:BBQ & Bean Bags
DESCRIPTION:BBQ & Bean Bags   Downtown Kingston \n\n\n\nHosted by the Kingston\, GA Downtown Development Authority (DDA)\n\n\n\nJoin us for a fun-filled summer event in Downtown Kingston featuring great food\, friendly competition\, and community spirit! BBQ & Bean Bags brings together delicious BBQ\, exciting cornhole (bean bag) games\, local vendors\, and food trucks for a day everyone will enjoy.\n\n\n\nSaturday\, June 27\, 2026\n\n10:00 AM   2:00 PM\n\n30 W Main Street\, Kingston\, GA\n\n\n\nEvent Highlights:\n\n	BBQ chefs and great food\n	Cornhole (bean bag) teams and competition\n	Local vendors\n	Food trucks\n	Family-friendly atmosphere\n\n\n\nNow accepting participants!\n\n\n\nWe are currently looking for vendors\, food trucks\, BBQ chefs\, and cornhole.\n\n\n\nCome hungry\, bring your friends\, and enjoy a sizzling day in Downtown Kingston!
X-ALT-DESC;FMTTYPE=text/html:BBQ &amp\; Bean Bags &ndash\; Downtown Kingston&nbsp\;<br />\n<br />\nHosted by the Kingston\, GA Downtown Development Authority (DDA)<br />\n<br />\nJoin us for a fun-filled summer event in Downtown Kingston featuring great food\, friendly competition\, and community spirit! BBQ &amp\; Bean Bags brings together delicious BBQ\, exciting cornhole (bean bag) games\, local vendors\, and food trucks for a day everyone will enjoy.<br />\n<br />\nSaturday\, June 27\, 2026<br />\n10:00 AM &ndash\; 2:00 PM<br />\n30 W Main Street\, Kingston\, GA<br />\n<br />\nEvent Highlights:\n<ul>\n	<li>BBQ chefs and great food</li>\n	<li>Cornhole (bean bag) teams and competition</li>\n	<li>Local vendors</li>\n	<li>Food trucks</li>\n	<li>Family-friendly atmosphere</li>\n</ul>\n<br />\nNow accepting participants!<br />\n<br />\nWe are currently looking for vendors\, food trucks\, BBQ chefs\, and cornhole.<br />\n<br />\nCome hungry\, bring your friends\, and enjoy a sizzling day in Downtown Kingston!
LOCATION:Kingston City Park 30 W. Main St. Kingston\, GA 30145
UID:e.1202.173876
SEQUENCE:3
DTSTAMP:20260421T184644Z
URL:https://business.cartersvillechamber.com/events/details/bbq-bean-bags-173876
END:VEVENT

END:VCALENDAR
