BEGIN:VCALENDAR
VERSION:2.0
PRODID:-//ChamberMaster//Event Calendar 2.0//EN
METHOD:PUBLISH
X-PUBLISHED-TTL:P3D
REFRESH-INTERVAL:P3D
CALSCALE:GREGORIAN
BEGIN:VEVENT
DTSTART:20251018T160000Z
DTEND:20251019T000000Z
X-MICROSOFT-CDO-ALLDAYEVENT:FALSE
SUMMARY:BBQ\, Brews\, & Boos
DESCRIPTION:Black Sheep Promotions and Glenda Mitchell Law Firm Present\n\nBBQ\, Brews\, & Boos\n\n\n\nSaturday\, October 18\, 2025\, 12 PM - 8 PM\n\nDowntown Cartersville\, 1 Friendship Plaza\, Cartersville\, GA 30120\n\n\n\nFree Festival with Food\, Music\, and Fun!
X-ALT-DESC;FMTTYPE=text/html:Black Sheep Promotions and Glenda Mitchell Law Firm Present<br />\nBBQ\, Brews\, &amp\; Boos<br />\n<br />\nSaturday\, October 18\, 2025\, 12 PM - 8 PM<br />\nDowntown Cartersville\, 1 Friendship Plaza\, Cartersville\, GA 30120<br />\n<br />\nFree Festival with Food\, Music\, and Fun!
LOCATION:Downtown Cartersville 1 Friendship Plaza Cartersville\, GA 30120
UID:e.1202.171782
SEQUENCE:3
DTSTAMP:20260422T003524Z
URL:https://business.cartersvillechamber.com/events/details/bbq-brews-boos-171782
END:VEVENT

END:VCALENDAR
