BEGIN:VCALENDAR
VERSION:2.0
PRODID:-//ChamberMaster//Event Calendar 2.0//EN
METHOD:PUBLISH
X-PUBLISHED-TTL:P3D
REFRESH-INTERVAL:P3D
CALSCALE:GREGORIAN
BEGIN:VEVENT
DTSTART:20241118T170000Z
DTEND:20241118T180000Z
X-MICROSOFT-CDO-ALLDAYEVENT:FALSE
SUMMARY:Bentley Rare Book Museum Lunch and Learn
DESCRIPTION:Find Thanksgiving recipe inspiration with KSU's Bentley Rare Book Museum! Join JoyEllen Williams\, Curator of Rare Books and Special Collections\, for an exploration of historic cookbooks published as early as the seventeenth century and as late as the twentieth century including wartime cookbooks. Bonus: Bentley Rare Book Museum research specialist\, Kelly Hoomes\, will discuss WWII Victory Gardens in connection with wartime cookbooks. This program is sure to make you hungry so feel free to bring your lunch.  \n\n\n\nTo learn more about the Bentley Rare Book Museum visit https://www.kennesaw.edu/marb/rare-books/about/index.php
X-ALT-DESC;FMTTYPE=text/html:<span style="color:rgb(62\, 62\, 62)\; font-family:system-ui\; font-size:12.8px">Find Thanksgiving recipe inspiration with KSU&rsquo\;s Bentley Rare Book Museum! Join&nbsp\;JoyEllen&nbsp\;Williams\, Curator of Rare Books and Special Collections\, for an exploration of historic cookbooks published as early as the seventeenth century and as late as the twentieth century including wartime cookbooks. Bonus: Bentley Rare Book Museum research specialist\, Kelly Hoomes\, will discuss WWII Victory Gardens in connection with wartime cookbooks. This program is sure to make you hungry so feel free to bring your lunch.&nbsp\;</span><span style="color:rgb(62\, 62\, 62)\; font-family:system-ui\; font-size:12.8px">&nbsp\;<br />\n<br />\nTo learn more about the Bentley Rare Book Museum visit&nbsp\;<a href="https://www.kennesaw.edu/marb/rare-books/about/index.php" rel="noopener" style="color: rgb(51\, 51\, 51)\;" target="_blank">https://www.kennesaw.edu/marb/rare-books/about/index.php</a></span>
LOCATION:Cartersville Library Meeting Room 429 West Main Street Cartersville GA 30120 US
UID:e.1202.167366
SEQUENCE:3
DTSTAMP:20260422T155436Z
URL:https://business.cartersvillechamber.com/events/details/bentley-rare-book-museum-lunch-and-learn-167366
END:VEVENT

END:VCALENDAR
