BEGIN:VCALENDAR
VERSION:2.0
PRODID:-//ChamberMaster//Event Calendar 2.0//EN
METHOD:PUBLISH
X-PUBLISHED-TTL:P3D
REFRESH-INTERVAL:P3D
CALSCALE:GREGORIAN
BEGIN:VEVENT
DTSTART:20251101T180000Z
DTEND:20251101T230000Z
X-MICROSOFT-CDO-ALLDAYEVENT:FALSE
SUMMARY:BFR Fall Fest
DESCRIPTION:Live music\, Food Trucks\, Petting Zoo\, large inflatables\, Football watching Zone for GA/FL game\, face painting\, GIANT checkers and corn hole\, cupcake walk from Heaven Scent\, Pie eating contest from Mule House\, and LOTS MORE....games for the whole family!
X-ALT-DESC;FMTTYPE=text/html:Live music\, Food Trucks\, Petting Zoo\, large inflatables\, Football watching Zone for GA/FL game\, face painting\, GIANT checkers and corn hole\, cupcake walk from Heaven Scent\, Pie eating contest from Mule House\, and LOTS MORE....games for the whole family!
LOCATION:Downtown Depot and Founder's Oak area
UID:e.1202.171978
SEQUENCE:3
DTSTAMP:20260421T230620Z
URL:https://business.cartersvillechamber.com/events/details/bfr-fall-fest-171978
END:VEVENT

END:VCALENDAR
