BEGIN:VCALENDAR
VERSION:2.0
PRODID:-//ChamberMaster//Event Calendar 2.0//EN
METHOD:PUBLISH
X-PUBLISHED-TTL:P3D
REFRESH-INTERVAL:P3D
CALSCALE:GREGORIAN
BEGIN:VEVENT
DTSTART:20260626T160000Z
DTEND:20260626T160000Z
X-MICROSOFT-CDO-ALLDAYEVENT:FALSE
SUMMARY:BGC Friday Bites
DESCRIPTION:Sponsors needed!\n\n\n\n\nHelp Us Bring Back Friday Bites!\nLast summer\, our community filled every Friday with generous sponsors who provided lunches for our Club kids and our members couldn't wait for the end of each week. We're excited to bring that joy back and are looking for sponsors to help make Friday Bites happen again. Your support fuels full bellies\, big smiles\, and unforgettable Fridays at the Club.\n\n\n\nWe have sponsorship opportunities at both of our locations: Cartersville Unit\, 642 Henderson DR\, Cartersville\, GA 30120\, and the Adairsville Unit\, 104 North Main ST\, Adairsville\, GA 30103.\n\n\n\nIf you would like support our Cartersville Unit members click the link to head over to our SignUp Genius \n\nhttps://www.signupgenius.com/go/10C094AA4AB29A0FFC43-61955759-cartersville\n\n \nTo support our Adairsville Unit members please use this link  https://www.signupgenius.com/go/10C094AA4AB29A0FFC43-61957966-adairsville
X-ALT-DESC;FMTTYPE=text/html:<div>\n<div>\n<div style="text-align:center">\n<h1 style="text-align: left\;">Sponsors needed!</h1>\n</div>\n</div>\n</div>\n\n<h2><span style="color:rgba(77\,78\,187\,var(--O42jJQ\,1))">Help Us Bring Back&nbsp\;</span><span style="color:rgba(77\,78\,187\,var(--O42jJQ\,1))">Friday Bites!</span></h2>\n<strong>Last summer\, our community filled every Friday with generous sponsors who provided lunches for our Club kids&mdash\;and our members couldn&rsquo\;t wait for the end of each week. We&rsquo\;re excited to bring that joy back and are looking for sponsors to help make Friday Bites happen again. Your support fuels full bellies\, big smiles\, and unforgettable Fridays at the Club.<br />\n<br />\nWe have sponsorship opportunities at both of our locations: Cartersville Unit\, 642 Henderson DR\, Cartersville\, GA 30120\, and the Adairsville Unit\, 104 North Main ST\, Adairsville\, GA 30103.<br />\n<br />\nIf you would like support our <span style="color:#FFFFFF"><span style="background-color:#660099">Cartersville Unit</span></span>&nbsp\;members click the link to head over to our SignUp Genius&nbsp\;</strong>\n\n<div><a href="https://www.signupgenius.com/go/10C094AA4AB29A0FFC43-61955759-cartersville">https://www.signupgenius.com/go/10C094AA4AB29A0FFC43-61955759-cartersville</a><br />\n&nbsp\;</div>\n<strong>To support our <span style="color:#FFFFFF"><span style="background-color:#008000">Adairsville Unit</span></span> members please use this link&nbsp\;<a href="https://www.signupgenius.com/go/10C094AA4AB29A0FFC43-61957966-adairsville">&nbsp\;</a></strong><a href="https://www.signupgenius.com/go/10C094AA4AB29A0FFC43-61957966-adairsville">https://www.signupgenius.com/go/10C094AA4AB29A0FFC43-61957966-adairsville</a>\n\n<div>&nbsp\;</div>\n<br />\n&nbsp\;
LOCATION:Boys & Girls Clubs of Bartow County Cartersville Unit\, 642 Henderson DR\, Cartersville\, GA 30120 Adairsville Unit\, 104 North Main ST\, Adairsville GA 30103
UID:e.1202.173638
SEQUENCE:3
DTSTAMP:20260421T185303Z
URL:https://business.cartersvillechamber.com/events/details/bgc-friday-bites-06-26-2026-173638
END:VEVENT

END:VCALENDAR
