BEGIN:VCALENDAR
VERSION:2.0
PRODID:-//ChamberMaster//Event Calendar 2.0//EN
METHOD:PUBLISH
X-PUBLISHED-TTL:P3D
REFRESH-INTERVAL:P3D
CALSCALE:GREGORIAN
BEGIN:VEVENT
DTSTART:20240618T223000Z
DTEND:20240619T020000Z
X-MICROSOFT-CDO-ALLDAYEVENT:FALSE
SUMMARY:Bingo Night
DESCRIPTION:Come on out and play Bingo with us at Sixes Tavern! There will be a variety of prizes to choose from!
X-ALT-DESC;FMTTYPE=text/html:Come on out and play Bingo with us at Sixes Tavern! There will be a variety of prizes to choose from!
LOCATION:650 Henderson Dr Cartersville\, GA 30120
UID:e.1202.165943
SEQUENCE:3
DTSTAMP:20260422T230623Z
URL:https://business.cartersvillechamber.com/events/details/bingo-night-165943
END:VEVENT

END:VCALENDAR
