BEGIN:VCALENDAR
VERSION:2.0
PRODID:-//ChamberMaster//Event Calendar 2.0//EN
METHOD:PUBLISH
X-PUBLISHED-TTL:P3D
REFRESH-INTERVAL:P3D
CALSCALE:GREGORIAN
BEGIN:VEVENT
DTSTART:20250530T223000Z
DTEND:20250531T003000Z
X-MICROSOFT-CDO-ALLDAYEVENT:FALSE
SUMMARY:Bingo Night
DESCRIPTION:Bingo Night\n\n\n\nFriday\, May 30\, 2025\, 6:30 PM\n\nEarl Towe Community Center\n\n218 North Main Street\, Adairsville\, GA 30103\n\n\n\nHosted by Adairsville Lions Club. Join us for an evening of fun\, excitement\, and fantastic prizes at our Bingo Night! Come join the fun!
X-ALT-DESC;FMTTYPE=text/html:Bingo Night<br />\n<br />\nFriday\, May 30\, 2025\, 6:30 PM<br />\nEarl Towe Community Center<br />\n218 North Main Street\, Adairsville\, GA 30103<br />\n<br />\nHosted by Adairsville Lions Club. Join us for an evening of fun\, excitement\, and fantastic prizes at our Bingo Night! Come join the fun!
LOCATION:Earl Towe Community Center 218 North Main Street Adairsville\, GA 30103
UID:e.1202.170936
SEQUENCE:3
DTSTAMP:20260422T080136Z
URL:https://business.cartersvillechamber.com/events/details/bingo-night-170936
END:VEVENT

END:VCALENDAR
