BEGIN:VCALENDAR
VERSION:2.0
PRODID:-//ChamberMaster//Event Calendar 2.0//EN
METHOD:PUBLISH
X-PUBLISHED-TTL:P3D
REFRESH-INTERVAL:P3D
CALSCALE:GREGORIAN
BEGIN:VEVENT
DTSTART:20250715T220000Z
DTEND:20250716T020000Z
X-MICROSOFT-CDO-ALLDAYEVENT:FALSE
SUMMARY:Bingo-Sixes Tavern
DESCRIPTION:Don't miss out on your chance to win all sorts of different prizes along with in-house prizes just by simply hanging out\, eat dinner& play the most favorite game there is!
X-ALT-DESC;FMTTYPE=text/html:Don&#39\;t miss out on your chance to win all sorts of different prizes along with in-house prizes just by simply hanging out\, eat dinner&amp\; play the most favorite game there is!
LOCATION:650 Henderson Dr. Cartersville\, Ga 30120
UID:e.1202.170983
SEQUENCE:3
DTSTAMP:20260422T050522Z
URL:https://business.cartersvillechamber.com/events/details/bingo-sixes-tavern-07-15-2025-170983
END:VEVENT

END:VCALENDAR
