BEGIN:VCALENDAR
VERSION:2.0
PRODID:-//ChamberMaster//Event Calendar 2.0//EN
METHOD:PUBLISH
X-PUBLISHED-TTL:P3D
REFRESH-INTERVAL:P3D
CALSCALE:GREGORIAN
BEGIN:VEVENT
DTSTART:20241029T220000Z
DTEND:20241030T020000Z
X-MICROSOFT-CDO-ALLDAYEVENT:FALSE
SUMMARY:Bingo- Sixes Tavern
DESCRIPTION:Don't miss out on a eventful Bingo night! Where you can win all sorts of fun prizes & in house prizes!
X-ALT-DESC;FMTTYPE=text/html:Don&#39\;t miss out on a eventful Bingo night! Where you can win all sorts of fun prizes &amp\; in house prizes!
LOCATION:650 Henderson Dr. Cartersville\, GA 30120
UID:e.1202.166949
SEQUENCE:3
DTSTAMP:20260422T170523Z
URL:https://business.cartersvillechamber.com/events/details/bingo-sixes-tavern-166949
END:VEVENT

END:VCALENDAR
