BEGIN:VCALENDAR
VERSION:2.0
PRODID:-//ChamberMaster//Event Calendar 2.0//EN
METHOD:PUBLISH
X-PUBLISHED-TTL:P3D
REFRESH-INTERVAL:P3D
CALSCALE:GREGORIAN
BEGIN:VEVENT
DTSTART:20240427T200000Z
DTEND:20240427T230000Z
X-MICROSOFT-CDO-ALLDAYEVENT:FALSE
SUMMARY:Black Bartow Day Party
DESCRIPTION:Black Bartow Day Party\n\n\n\nSaturday\, April 27\, 2024\n\n4 PM - 7 PM\n\n\n\nCome and join Black Bartow for their Spring Day Party in Friendship Plaza from 4 - 7 PM. Featuring live music\, food trucks\, vendors\, entertainment\, spades\, games\, and more!\n\n\n\nFor more information\, visit their website.
X-ALT-DESC;FMTTYPE=text/html:Black Bartow Day Party<br />\n<br />\nSaturday\, April 27\, 2024<br />\n4 PM - 7 PM<br />\n<br />\nCome and join Black Bartow for their Spring Day Party in Friendship Plaza from 4 - 7 PM. Featuring live music\, food trucks\, vendors\, entertainment\, spades\, games\, and more!<br />\n<br />\nFor more information\, <a href="https://www.facebook.com/BlackBartowEvents/" target="_blank">visit their website</a>.
LOCATION:1 Friendship Plaza Cartersville\, GA 30120
UID:e.1202.164329
SEQUENCE:3
DTSTAMP:20260423T021214Z
URL:https://business.cartersvillechamber.com/events/details/black-bartow-day-party-164329
END:VEVENT

END:VCALENDAR
