BEGIN:VCALENDAR
VERSION:2.0
PRODID:-//ChamberMaster//Event Calendar 2.0//EN
METHOD:PUBLISH
X-PUBLISHED-TTL:P3D
REFRESH-INTERVAL:P3D
CALSCALE:GREGORIAN
BEGIN:VEVENT
DTSTART;VALUE=DATE:20241129
DTEND;VALUE=DATE:20241130
TRANSP:TRANSPARENT
X-MICROSOFT-CDO-ALLDAYEVENT:TRUE
SUMMARY:Black Friday
DESCRIPTION:Don't forget to shop locally for some great deals this Black Friday!
X-ALT-DESC;FMTTYPE=text/html:Don&#39\;t forget to shop locally for some great deals this Black Friday!
LOCATION:
UID:e.1202.167558
SEQUENCE:3
DTSTAMP:20260422T154826Z
URL:https://business.cartersvillechamber.com/events/details/black-friday-167558
END:VEVENT

END:VCALENDAR
