BEGIN:VCALENDAR
VERSION:2.0
PRODID:-//ChamberMaster//Event Calendar 2.0//EN
METHOD:PUBLISH
X-PUBLISHED-TTL:P3D
REFRESH-INTERVAL:P3D
CALSCALE:GREGORIAN
BEGIN:VEVENT
DTSTART:20250620T140000Z
DTEND:20250620T200000Z
X-MICROSOFT-CDO-ALLDAYEVENT:FALSE
SUMMARY:Blood Drive at Rooty Aesthetics
DESCRIPTION:No Bad Days When You're a Blood Donor\n\nRooty Aesthetics Blood Drive\n\n\n\nFriday\, June 20\, 2025\, 10 AM - 4 PM\n\n113 N. Erwin Street\, Cartersville\, GA 30120\n\n\n\n$50.00 Credit Added to In Patient Wallet for Future Services for Donors\n\n\n\nClick Here to Schedule Your Appointment\n\n\n\nAll donors receive a free t-shirt! Platelet and double red cell donors receive a $40 e-gift card! While supplies last. Colors may vary.\n\n\n\nLifeSouth Community Blood Centers
X-ALT-DESC;FMTTYPE=text/html:<em>No Bad Days When You&#39\;re a Blood Donor</em><br />\n<strong>Rooty Aesthetics Blood Drive</strong><br />\n<br />\nFriday\, June 20\, 2025\, 10 AM - 4 PM<br />\n113 N. Erwin Street\, Cartersville\, GA 30120<br />\n<br />\n$50.00 Credit Added to In Patient Wallet for Future Services for Donors<br />\n<br />\n<a href="https://donors.lifesouth.org/donor/schedules/drive_schedule/870388" target="_blank">Click Here to Schedule Your Appointment</a><br />\n<br />\nAll donors receive a free t-shirt! Platelet and double red cell donors receive a $40 e-gift card! <em>While supplies last. Colors may vary.<br />\n<br />\nLifeSouth Community Blood Centers</em>
LOCATION:Rooty Aesthetics 113 N. Erwin Street Cartersville\, GA 30120
UID:e.1202.171044
SEQUENCE:3
DTSTAMP:20260422T063306Z
URL:https://business.cartersvillechamber.com/events/details/blood-drive-at-rooty-aesthetics-171044
END:VEVENT

END:VCALENDAR
