BEGIN:VCALENDAR
VERSION:2.0
PRODID:-//ChamberMaster//Event Calendar 2.0//EN
METHOD:PUBLISH
X-PUBLISHED-TTL:P3D
REFRESH-INTERVAL:P3D
CALSCALE:GREGORIAN
BEGIN:VEVENT
DTSTART:20240510T213000Z
DTEND:20240511T003000Z
X-MICROSOFT-CDO-ALLDAYEVENT:FALSE
SUMMARY:Bluegrass Festival
DESCRIPTION:The Falany at Reinhardt\n\nBluegrass Festival\n\n\n\nFriday\, May 10\, 2024\, 5:30 PM\n\nSaturday\, May 11\, 2024\, 12:00 PM\n\nReinhardt University\n\n7300 Reinhardt Circle\, Waleska\, GA 30183\n\n\n\nCurious about building a new Custom Home?\n\nEnjoy some live music while our experienced Sales Team answer any of your Custom Home Building questions. Don't forget to ask about our special offer for attendees! Let us show you how easy it is to build a brighter future\, together.\n\n\n\nCalhoun Building Center - America's Home Place\n\n(706) 629-8011\n\nAmericasHomePlace.com
X-ALT-DESC;FMTTYPE=text/html:The Falany at Reinhardt<br />\nBluegrass Festival<br />\n<br />\nFriday\, May 10\, 2024\, 5:30 PM<br />\nSaturday\, May 11\, 2024\, 12:00 PM<br />\nReinhardt University<br />\n7300 Reinhardt Circle\, Waleska\, GA 30183<br />\n<br />\n<strong>Curious about building a new Custom Home?</strong><br />\nEnjoy some live music while our experienced Sales Team answer any of your Custom Home Building questions. Don&#39\;t forget to ask about our special offer for attendees! Let us show you how easy it is to build a brighter future\,&nbsp\;<em>together.</em><br />\n<br />\nCalhoun Building Center - America&#39\;s Home Place<br />\n(706) 629-8011<br />\n<a href="https://americashomeplace.com/" target="_blank">AmericasHomePlace.com</a>
LOCATION:Reinhardt University 7300 Reinhardt Circle Waleska\, GA 30183
UID:e.1202.164366
SEQUENCE:3
DTSTAMP:20260423T004033Z
URL:https://business.cartersvillechamber.com/events/details/bluegrass-festival-164366
END:VEVENT

END:VCALENDAR
