BEGIN:VCALENDAR
VERSION:2.0
PRODID:-//ChamberMaster//Event Calendar 2.0//EN
METHOD:PUBLISH
X-PUBLISHED-TTL:P3D
REFRESH-INTERVAL:P3D
CALSCALE:GREGORIAN
BEGIN:VEVENT
DTSTART:20251120T200000Z
DTEND:20251120T213000Z
X-MICROSOFT-CDO-ALLDAYEVENT:FALSE
SUMMARY:Board at the Library
DESCRIPTION:Take a break at the library! Enjoy some board games and company as you get to know others in the community and form friendships! Feel free to bring your own games or use ours! No registration required\, just enjoy. Adults only\, please.
X-ALT-DESC;FMTTYPE=text/html:<span style="color:rgb(62\, 62\, 62)\; font-family:system-ui\; font-size:12.8px">Take a break at the library! Enjoy some board games and company as you get to know others in the community and form friendships! Feel free to bring your own games or use ours! No registration required\, just enjoy. Adults only\, please.</span>
LOCATION:Cartersville Public Library 429 W Main St Cartersville\, GA 30121
UID:e.1202.172057
SEQUENCE:3
DTSTAMP:20260421T231445Z
URL:https://business.cartersvillechamber.com/events/details/board-at-the-library-11-10-2025-172057
END:VEVENT

END:VCALENDAR
