BEGIN:VCALENDAR
VERSION:2.0
PRODID:-//ChamberMaster//Event Calendar 2.0//EN
METHOD:PUBLISH
X-PUBLISHED-TTL:P3D
REFRESH-INTERVAL:P3D
CALSCALE:GREGORIAN
BEGIN:VEVENT
DTSTART:20240519T170000Z
DTEND:20240519T190000Z
X-MICROSOFT-CDO-ALLDAYEVENT:FALSE
SUMMARY:Bogey's Bash
DESCRIPTION:Come help us celebrate our official launch pawty of Bogey's Buddies and National Rescue Dog Day! \n\nWe'll have: \n\n*T-shirt Fundraisers\n\n*Silent Auctions \n\n*Food Truck (For Purchase) \n\n*Beer (For Purchase) \n\n*PUPPIES!! (Available for Adoption)
X-ALT-DESC;FMTTYPE=text/html:Come help us celebrate our official launch pawty of Bogey&#39\;s Buddies and National Rescue Dog Day!&nbsp\;<br />\nWe&#39\;ll have:&nbsp\;<br />\n*T-shirt Fundraisers<br />\n*Silent Auctions&nbsp\;<br />\n*Food Truck (For Purchase)&nbsp\;<br />\n*Beer (For Purchase)&nbsp\;<br />\n*PUPPIES!! (Available for Adoption)&nbsp\;
LOCATION:Drowned Valley Brewing Co. 4 S Tennessee St. Cartersville\, GA 30120
UID:e.1202.164403
SEQUENCE:3
DTSTAMP:20260423T003156Z
URL:https://business.cartersvillechamber.com/events/details/bogey-s-bash-164403
END:VEVENT

END:VCALENDAR
