BEGIN:VCALENDAR
VERSION:2.0
PRODID:-//ChamberMaster//Event Calendar 2.0//EN
METHOD:PUBLISH
X-PUBLISHED-TTL:P3D
REFRESH-INTERVAL:P3D
CALSCALE:GREGORIAN
BEGIN:VEVENT
DTSTART:20250426T220000Z
DTEND:20250426T230000Z
X-MICROSOFT-CDO-ALLDAYEVENT:FALSE
SUMMARY:Breathe Beneath The Branches
DESCRIPTION:Join us beneath the canopy of Georgia's second-largest oak tree for an evening of breath\, sound\, and stillness. As the sun sets and the light softens\, we'll ground into the rhythm of nature-releasing what no longer serves and making space for renewal. Guided by breathwork facilitator Cohen Andrews\, this experience invites you to reconnect--with your breath\, your body\, and the land beneath you. No experience needed\, just bring a yoga mat\, and open heart!
X-ALT-DESC;FMTTYPE=text/html:<p>Join us beneath the canopy of Georgia&#39\;s second-largest oak tree for an evening of breath\, sound\, and stillness. As the sun sets and the light softens\, we&#39\;ll ground into the rhythm of nature-releasing what no longer serves and making space for renewal. Guided by breathwork facilitator Cohen Andrews\, this experience invites you to reconnect--with your breath\, your body\, and the land beneath you. No experience needed\, just bring a yoga mat\, and open heart!&nbsp\;</p>\n
LOCATION:Spring Bank Park 255 Hall Station Rd\, Kingston\, GA30145 Parking is limited so carpooling is highly encouraged!
UID:e.1202.170687
SEQUENCE:3
DTSTAMP:20260422T091412Z
URL:https://business.cartersvillechamber.com/events/details/breathe-beneath-the-branches-170687
END:VEVENT

END:VCALENDAR
