BEGIN:VCALENDAR
VERSION:2.0
PRODID:-//ChamberMaster//Event Calendar 2.0//EN
METHOD:PUBLISH
X-PUBLISHED-TTL:P3D
REFRESH-INTERVAL:P3D
CALSCALE:GREGORIAN
BEGIN:VEVENT
DTSTART:20250222T160000Z
DTEND:20250222T170000Z
X-MICROSOFT-CDO-ALLDAYEVENT:FALSE
SUMMARY:Breathwork Class
DESCRIPTION:Come join us for a transformative breath work class! Cohen Andrews will guide you through the powerful Wim Hof inspired and holotropic breathing methods designed to expand the breath matrix and enhance your physical and mental well-being. Under the guidance of your experienced instructor\, you will learn to harness the power of your breath to reduce stress\, boost your immune system and achieve a deeper state of consciousness. Space is limited\, so don't wait to get your tickets!\n\nDisclaimer - *Pregnancy* We do not know if the increased adrenaline levels associated with the breathing techniques adversely affect the health of the baby. Out of an abundance of precaution\, we do not recommend pregnant women attend at this time.\n\n\n	Please bring a yoga mat\, pillow\, blanket\, water bottle and any props to help you get comfortable.\n	All ticket sales are final.
X-ALT-DESC;FMTTYPE=text/html:<p>Come join us for a transformative breath work class! Cohen Andrews will guide you through the powerful Wim Hof inspired and holotropic breathing methods designed to expand the breath matrix and enhance your physical and mental well-being. Under the guidance of your experienced instructor\, you will learn to harness the power of your breath to reduce stress\, boost your immune system and achieve a deeper state of consciousness. Space is limited\, so don&rsquo\;t wait to get your tickets!</p>\n\n<p>Disclaimer - *Pregnancy* We do not know if the increased adrenaline levels associated with the breathing techniques adversely affect the health of the baby. Out of an abundance of precaution\, we do not recommend pregnant women attend at this time.</p>\n\n<ul>\n	<li>Please bring a yoga mat\, pillow\, blanket\, water bottle and any props to help you get comfortable.</li>\n	<li>All ticket sales are final.&nbsp\;</li>\n</ul>\n
LOCATION:Cultivate Health 1130 N. Tennessee St. Suite C Cartersville\, GA 30120
UID:e.1202.168404
SEQUENCE:3
DTSTAMP:20260422T113602Z
URL:https://business.cartersvillechamber.com/events/details/breathwork-class-168404
END:VEVENT

END:VCALENDAR
