BEGIN:VCALENDAR
VERSION:2.0
PRODID:-//ChamberMaster//Event Calendar 2.0//EN
METHOD:PUBLISH
X-PUBLISHED-TTL:P3D
REFRESH-INTERVAL:P3D
CALSCALE:GREGORIAN
BEGIN:VEVENT
DTSTART:20240928T150000Z
DTEND:20240928T190000Z
X-MICROSOFT-CDO-ALLDAYEVENT:FALSE
SUMMARY:Brunch- Sixes Tavern
DESCRIPTION:Sixes Taverns Brunch will have your mouth watering & a craving you will have to satisfy every weekend!
X-ALT-DESC;FMTTYPE=text/html:Sixes Taverns Brunch will have your mouth watering &amp\; a craving you will have to satisfy every weekend!
LOCATION:650 Henderson Dr. Cartersville\, GA 30120
UID:e.1202.166311
SEQUENCE:3
DTSTAMP:20260422T185358Z
URL:https://business.cartersvillechamber.com/events/details/brunch-sixes-tavern-09-28-2024-166311
END:VEVENT

END:VCALENDAR
