BEGIN:VCALENDAR
VERSION:2.0
PRODID:-//ChamberMaster//Event Calendar 2.0//EN
METHOD:PUBLISH
X-PUBLISHED-TTL:P3D
REFRESH-INTERVAL:P3D
CALSCALE:GREGORIAN
BEGIN:VEVENT
DTSTART:20241020T150000Z
DTEND:20241020T190000Z
X-MICROSOFT-CDO-ALLDAYEVENT:FALSE
SUMMARY:Brunch- Sixes Tavern
DESCRIPTION:Sixes Taverns Brunch will have your mouth watering and a craving you will have to satisfy every weekend!
X-ALT-DESC;FMTTYPE=text/html:Sixes Taverns Brunch will have your mouth watering and a craving you will have to satisfy every weekend!
LOCATION:650 Henderson Dr. Cartersville\, GA 30120
UID:e.1202.166344
SEQUENCE:3
DTSTAMP:20260422T171945Z
URL:https://business.cartersvillechamber.com/events/details/brunch-sixes-tavern-10-20-2024-166344
END:VEVENT

END:VCALENDAR
