BEGIN:VCALENDAR
VERSION:2.0
PRODID:-//ChamberMaster//Event Calendar 2.0//EN
METHOD:PUBLISH
X-PUBLISHED-TTL:P3D
REFRESH-INTERVAL:P3D
CALSCALE:GREGORIAN
BEGIN:VEVENT
DTSTART:20250904T170000Z
DTEND:20250904T180000Z
X-MICROSOFT-CDO-ALLDAYEVENT:FALSE
SUMMARY:"Budget-Friendly Branding" Online Workshop
DESCRIPTION:Budget-Friendly Branding\n\n\n\nThursday\, September 4\, 2025\, 1 PM - 2 PM\n\nOnline Workshop\n\nFee: Free\n\n\n\nYou don't need a large budget to build a powerful brand that customers remember or to keep up with the latest marketing trends. In this webinar\, you'll learn how to create a professional\, high-value brand using free and low-cost tools\, along with simple DIY marketing strategies you can put into action right away.\n\n\n\nOur expert presenters will explore the top marketing trends shaping 2025 and show you how to make them work for your business. You'll discover practical ways to use AI to save time\, create better content\, personalize your marketing and adapt to changing customer habits to stay competitive. This session is designed for budget-conscious small business owners\, providing clear\, step-by-step actions to strengthen your brand\, reach more customers and grow your business without overspending.\n\n\n\nHere's what you'll learn:\n\n	Understand the two sides of every brand - what your customers see and what they feel\n	Identify the essential elements of budget-friendly branding and what you can skip\n	Use free and low-cost tools to create a brand that looks professional and polished\n	Apply simple DIY marketing strategies to create content and present your business like a pro\n	Leverage the top marketing trends for 2025\, including AI\, personalization\, and shifting customer habits\, to your advantage\n\n\n\nRegister Online
X-ALT-DESC;FMTTYPE=text/html:<strong>Budget-Friendly Branding</strong><br />\n<br />\n<strong>Thursday\, September 4\, 2025\, 1 PM - 2 PM<br />\nOnline Workshop<br />\nFee: Free</strong><br />\n<br />\nYou don&rsquo\;t need a large budget to build a powerful brand that customers remember or to keep up with the latest marketing trends. In this webinar\, you&rsquo\;ll learn how to create a professional\, high-value brand using free and low-cost tools\, along with simple DIY marketing strategies you can put into action right away.<br />\n<br />\nOur expert presenters will explore the top marketing trends shaping 2025 and show you how to make them work for your business. You&rsquo\;ll discover practical ways to use AI to save time\, create better content\, personalize your marketing and adapt to changing customer habits to stay competitive. This session is designed for budget-conscious small business owners\, providing clear\, step-by-step actions to strengthen your brand\, reach more customers and grow your business without overspending.<br />\n<br />\nHere&rsquo\;s what you&rsquo\;ll learn:\n<ul>\n	<li>Understand the two sides of every brand - what your customers see and what they feel</li>\n	<li>Identify the essential elements of budget-friendly branding and what you can skip</li>\n	<li>Use free and low-cost tools to create a brand that looks professional and polished</li>\n	<li>Apply simple DIY marketing strategies to create content and present your business like a pro</li>\n	<li>Leverage the top marketing trends for 2025\, including AI\, personalization\, and shifting customer habits\, to your advantage</li>\n</ul>\n<br />\n<a href="https://www.score.org/event/budget-friendly-branding-create-a-high-value-brand-less" target="_blank">Register Online</a>
LOCATION:Online Workshop
UID:e.1202.171757
SEQUENCE:3
DTSTAMP:20260422T021010Z
URL:https://business.cartersvillechamber.com/events/details/budget-friendly-branding-online-workshop-171757
END:VEVENT

END:VCALENDAR
