BEGIN:VCALENDAR
VERSION:2.0
PRODID:-//ChamberMaster//Event Calendar 2.0//EN
METHOD:PUBLISH
X-PUBLISHED-TTL:P3D
REFRESH-INTERVAL:P3D
CALSCALE:GREGORIAN
BEGIN:VEVENT
DTSTART:20250719T140000Z
DTEND:20250719T190000Z
X-MICROSOFT-CDO-ALLDAYEVENT:FALSE
SUMMARY:Build + Blast! Model Rocket Workshop
DESCRIPTION:Build your own rocket with expert assistance and then launch it! Plus\, hear about the latest developments with NASA rockets from Tellus Volunteer and NASA Ambassador Chris Thompson. NOTE: If winds are greater than 20 mph or heavy rain or severe weather threatens\, this workshop will be cancelled and rescheduled to Saturday\, July 26\, 2025. Limited space available. Prepaid registration required. Children must be accompanied by a registered adult. Cancellation policy: 48 hours before for full refund.
X-ALT-DESC;FMTTYPE=text/html:Build your own rocket with expert assistance and then launch it! Plus\, hear about the latest developments with NASA rockets from Tellus Volunteer and NASA Ambassador Chris Thompson. NOTE: If winds are greater than 20 mph or heavy rain or severe weather threatens\, this workshop will be cancelled and rescheduled to Saturday\, July 26\, 2025. Limited space available. Prepaid registration required. Children must be accompanied by a registered adult. Cancellation policy: 48 hours before for full refund.
LOCATION:Tellus Science Museum
UID:e.1202.171051
SEQUENCE:3
DTSTAMP:20260422T045935Z
URL:https://business.cartersvillechamber.com/events/details/build-blast-model-rocket-workshop-07-19-2025-171051
END:VEVENT

END:VCALENDAR
