BEGIN:VCALENDAR
VERSION:2.0
PRODID:-//ChamberMaster//Event Calendar 2.0//EN
METHOD:PUBLISH
X-PUBLISHED-TTL:P3D
REFRESH-INTERVAL:P3D
CALSCALE:GREGORIAN
BEGIN:VEVENT
DTSTART:20240720T140000Z
DTEND:20240720T190000Z
X-MICROSOFT-CDO-ALLDAYEVENT:FALSE
SUMMARY:Build + Blast! Model Rocket Workshop
DESCRIPTION:Build your own rocket with expert assistance and then launch it! Plus\, hear about the latest developments with NASA rockets from Tellus Volunteer and NASA Ambassador Chris Thompson. Advance registration for members only until July 3\, 2024. Reservations close at noon on Wednesday\, July 17\, 2024 or when the program reaches maximum capacity.
X-ALT-DESC;FMTTYPE=text/html:Build your own rocket with expert assistance and then launch it! Plus\, hear about the latest developments with NASA rockets from Tellus Volunteer and NASA Ambassador Chris Thompson. Advance registration for members only until July 3\, 2024. Reservations close at noon on Wednesday\, July 17\, 2024 or when the program reaches maximum capacity.
LOCATION:Tellus Science Museum 100 Tellus Drive Cartersville\, GA 30120
UID:e.1202.164386
SEQUENCE:3
DTSTAMP:20260422T214054Z
URL:https://business.cartersvillechamber.com/events/details/build-blast-model-rocket-workshop-07-20-2024-164386
END:VEVENT

END:VCALENDAR
