BEGIN:VCALENDAR
VERSION:2.0
PRODID:-//ChamberMaster//Event Calendar 2.0//EN
METHOD:PUBLISH
X-PUBLISHED-TTL:P3D
REFRESH-INTERVAL:P3D
CALSCALE:GREGORIAN
BEGIN:VEVENT
DTSTART:20260228T150000Z
DTEND:20260228T200000Z
X-MICROSOFT-CDO-ALLDAYEVENT:FALSE
SUMMARY:Build + Blast! Model Rocket Workshop
DESCRIPTION:Saturday\, February 28\, 2026\n\n10 AM   3 PM*\n\n*This is a 3 hour workshop with staggered start times. Start times are chosen at registration.\n\n\n\nFOR AGES 8+\, NO EXCEPTIONS.\n\nMuseum Members: $30\n\nNon-members: $45\n\nRegister Online\n\n\n\nReservations close at noon on Wednesday\, February 25\, 2026 or when the program reaches maximum capacity. \n\n\n\nBuild your own rocket with expert assistance and then launch it! Plus\, hear about the latest developments with NASA rockets from Tellus Volunteer and NASA Ambassador Chris Thompson.\n\n\n\nNOTE: If winds are greater than 20 mph or heavy rain or severe weather threatens\, this workshop will be cancelled and rescheduled to Saturday\, March 7\, 2026.\n\n\n\nLimited space available. Prepaid registration required. Children must be accompanied by a registered adult. Cancellation policy: 48 hours before for full refund.
X-ALT-DESC;FMTTYPE=text/html:Saturday\, February 28\, 2026<br />\n10 AM &ndash\; 3 PM*<br />\n*This is a 3 hour workshop with staggered start times. Start times are chosen at registration.<br />\n<br />\n<strong>FOR AGES 8+\, NO EXCEPTIONS.<br />\nMuseum&nbsp\;Members: $30<br />\nNon-members: $45<br />\n<a href="https://tellusmuseum.org/our-events/build-blast-model-rocket-workshop/" target="_blank">Register Online</a></strong><br />\n<br />\nReservations close at noon on Wednesday\, February 25\, 2026 or when the program reaches maximum capacity.&nbsp\;<br />\n<br />\nBuild your own rocket with expert assistance and then launch it! Plus\, hear about the latest developments with NASA rockets from Tellus Volunteer and NASA Ambassador Chris Thompson.<br />\n<br />\n<em>NOTE: If winds are greater than 20 mph or heavy rain or severe weather threatens\, this workshop will be cancelled and rescheduled to Saturday\, March 7\, 2026.<br />\n<br />\nLimited space available. Prepaid registration required. Children must be accompanied by a registered adult. Cancellation policy: 48 hours before for full refund.</em>
LOCATION:Tellus Science Museum 100 Tellus Drive Cartersville\, GA 30120
UID:e.1202.173731
SEQUENCE:3
DTSTAMP:20260421T184347Z
URL:https://business.cartersvillechamber.com/events/details/build-blast-model-rocket-workshop-173731
END:VEVENT

END:VCALENDAR
