BEGIN:VCALENDAR
VERSION:2.0
PRODID:-//ChamberMaster//Event Calendar 2.0//EN
METHOD:PUBLISH
X-PUBLISHED-TTL:P3D
REFRESH-INTERVAL:P3D
CALSCALE:GREGORIAN
BEGIN:VEVENT
DTSTART:20260507T150000Z
DTEND:20260507T160000Z
X-MICROSOFT-CDO-ALLDAYEVENT:FALSE
SUMMARY:"Building a Business Plan That Works" Online Workshop
DESCRIPTION:"Building a Business Plan That Works - Key Elements Every Entrepreneur Needs" Workshop\n\n\n\nThursday\, May 7\, 2026\, 11:00 AM - 12:00 PM\n\nFee: Free\n\n\n\nStarting a business without a clear plan can leave you guessing about your next steps\, your goals\, and how to grow sustainably. A strong business plan helps you clarify your vision\, make better decisions\, and build a stronger foundation for long-term success.\n\n\n\nIn this webinar\, our expert presenter will explain why you need a business plan\, the key elements every plan should include\, and the key sections you should focus on. By the end of this session\, you'll have the knowledge and confidence to build an effective\, results-driven business plan.\n\n\n\nLearning Objectives:\n\n	Understand why a business plan is important for starting and growing a business\n	Learn the key elements every effective business plan should include\n	Identify the sections that deserve the most attention\n	Build a stronger roadmap for decision-making and growth\n	Gain confidence in creating a business plan that supports your goals\n\n\n\nThis webinar is part of the National Small Business Week Learning Lab\, happening May 6-7\, 2026\, featuring free educational content\, mentor connections\, and a community of entrepreneurs.\n\n\n\nRegister Online
X-ALT-DESC;FMTTYPE=text/html:<strong>&quot\;Building a Business Plan That Works - Key Elements Every Entrepreneur Needs&quot\; Workshop<br />\n<br />\nThursday\, May 7\, 2026\, 11:00 AM - 12:00 PM<br />\nFee: Free</strong><br />\n<br />\nStarting a business without a clear plan can leave you guessing about your next steps\, your goals\, and how to grow sustainably. A strong business plan helps you clarify your vision\, make better decisions\, and build a stronger foundation for long-term success.<br />\n<br />\nIn this webinar\, our expert presenter will explain why you need a business plan\, the key elements every plan should include\, and the key sections you should focus on. By the end of this session\, you&rsquo\;ll have the knowledge and confidence to build an effective\, results-driven business plan.<br />\n<br />\nLearning Objectives:\n<ul>\n	<li>Understand why a business plan is important for starting and growing a business</li>\n	<li>Learn the key elements every effective business plan should include</li>\n	<li>Identify the sections that deserve the most attention</li>\n	<li>Build a stronger roadmap for decision-making and growth</li>\n	<li>Gain confidence in creating a business plan that supports your goals</li>\n</ul>\n<br />\nThis webinar is part of the&nbsp\;<a href="https://academy.score.org/program/nsbw-learning-lab?_gl=1*1vavkis*_gcl_au*MjEwNzM1NDY1OC4xNzcxOTY0Nzgz*_ga*MTkyODkwNTYyOC4xNzcxOTY0Nzgz*_ga_3LHXGY70TN*czE3NzcwMzgzNDkkbzQkZzEkdDE3NzcwMzkzOTQkajEwJGwwJGgw" target="_blank">National Small Business Week Learning Lab</a>\, happening May 6-7\, 2026\, featuring free educational content\, mentor connections\, and a community of entrepreneurs.<br />\n<br />\n<a href="https://www.score.org/event/building-a-business-plan-works-key-elements-every-entrepreneur-needs" target="_blank">Register Online</a>
LOCATION:Online Workshop
UID:e.1202.174080
SEQUENCE:3
DTSTAMP:20260424T191020Z
URL:https://business.cartersvillechamber.com/events/details/building-a-business-plan-that-works-online-workshop-174080
END:VEVENT

END:VCALENDAR
