BEGIN:VCALENDAR
VERSION:2.0
PRODID:-//ChamberMaster//Event Calendar 2.0//EN
METHOD:PUBLISH
X-PUBLISHED-TTL:P3D
REFRESH-INTERVAL:P3D
CALSCALE:GREGORIAN
BEGIN:VEVENT
DTSTART:20240503T140000Z
DTEND:20240503T160000Z
X-MICROSOFT-CDO-ALLDAYEVENT:FALSE
SUMMARY:"Building an Effective Social Media Strategy" Workshop
DESCRIPTION:"Building an Effective Social Media Strategy" Workshop\n\n\n\nFriday\, May 3\, 2024\, 10 AM - 12 PM\n\nFee: Free\n\n\n\nRegister Online\n\n\n\nThe top three challenges faced by users of social media are reaching the target audience\, measuring strategy effectiveness\, and achieving goals.\n\n\n\nCrafting an effective social media approach will help tackle these challenges and more. Social media strategies equip you to set goals and guardrails\, track performance\, and tweak your benchmarks over time. Having a starting point\, you can measure what is working and how to shift your activity to achieve your goals.\n\n\n\nWhat to expect from this Live Online Workshop?\n\n	Importance of having a social media presence\n	Setting social media marketing goals that align to business objectives\n	Understanding your audience and competition\n	Selecting the correct social media platforms for your business\n	Developing effective social content\n	Methods for extending your social reach\n	Tracking your results to know if the strategy is working or not
X-ALT-DESC;FMTTYPE=text/html:<strong>&quot\;Building an Effective Social Media Strategy&quot\; Workshop<br />\n<br />\nFriday\, May 3\, 2024\, 10 AM - 12 PM<br />\nFee: Free</strong><br />\n<br />\n<a href="https://www.score.org/northmetroatlanta/event/building-effective-social-media-strategy-0" target="_blank">Register Online</a><br />\n<br />\nThe top three challenges faced by users of social media are reaching the target audience\, measuring strategy effectiveness\, and achieving goals.<br />\n<br />\nCrafting an effective social media approach will help tackle these challenges and more. Social media strategies equip you to set goals and guardrails\, track performance\, and tweak your benchmarks over time. Having a starting point\, you can measure what is working and how to shift your activity to achieve your goals.<br />\n<br />\nWhat to expect from this <strong>Live Online Workshop</strong>?\n<ul>\n	<li>Importance of having a social media presence</li>\n	<li>Setting social media marketing goals that align to business objectives</li>\n	<li>Understanding your audience and competition</li>\n	<li>Selecting the correct social media platforms for your business</li>\n	<li>Developing effective social content</li>\n	<li>Methods for extending your social reach</li>\n	<li>Tracking your results to know if the strategy is working or not</li>\n</ul>\n
LOCATION:Online Workshop
UID:e.1202.164396
SEQUENCE:3
DTSTAMP:20260423T004059Z
URL:https://business.cartersvillechamber.com/events/details/building-an-effective-social-media-strategy-workshop-164396
END:VEVENT

END:VCALENDAR
