BEGIN:VCALENDAR
VERSION:2.0
PRODID:-//ChamberMaster//Event Calendar 2.0//EN
METHOD:PUBLISH
X-PUBLISHED-TTL:P3D
REFRESH-INTERVAL:P3D
CALSCALE:GREGORIAN
BEGIN:VEVENT
DTSTART:20250225T233000Z
DTEND:20250226T010000Z
X-MICROSOFT-CDO-ALLDAYEVENT:FALSE
SUMMARY:Bunco for ALL
DESCRIPTION:All of the fun of Bunco and not limited to just the ladies!\n\nCome on men! Find out what all the fun is about!
X-ALT-DESC;FMTTYPE=text/html:All of the fun of Bunco and not limited to just the ladies!<br />\nCome on men! Find out what all the fun is about!
LOCATION:Olive Tree & Vine 26 W Main St Cartersville
UID:e.1202.168220
SEQUENCE:3
DTSTAMP:20260422T115416Z
URL:https://business.cartersvillechamber.com/events/details/bunco-for-all-168220
END:VEVENT

END:VCALENDAR
