BEGIN:VCALENDAR
VERSION:2.0
PRODID:-//ChamberMaster//Event Calendar 2.0//EN
METHOD:PUBLISH
X-PUBLISHED-TTL:P3D
REFRESH-INTERVAL:P3D
CALSCALE:GREGORIAN
BEGIN:VEVENT
DTSTART:20260506T150000Z
DTEND:20260506T160000Z
X-MICROSOFT-CDO-ALLDAYEVENT:FALSE
SUMMARY:"Business Credit 101" Online Workshop
DESCRIPTION:"Business Credit 101: Build Credit\, Access Funding\, and Grow Your Business" Workshop\n\n\n\nWednesday\, May 6\, 2026\, 11 AM - 12 PM\n\nFee: Free\n\n\n\nBusiness credit can help you qualify for better financing\, strengthen your credibility\, and give your business more room to grow. Unlike personal credit\, business credit does not develop on its own. It requires the right structure\, intentional action\, and consistent financial habits\n\n\n\nIn this webinar\, you'll learn how business credit works\, why it matters\, and what it takes to build it over time. We'll walk through the key steps to help you establish a strong credit foundation\, build a credit history\, and improve your ability to qualify for funding in the future.\n\n\n\nWhat You'll Learn:\n\n	Understand the difference between a business credit profile and a business credit score\n	Learn how business credit differs from personal credit and why both can matter\n	Set up the right foundation to begin building business credit\n	Use trade relationships and payment habits to strengthen your credit profile\n	Manage credit utilization and understand how it impacts your score\n	Monitor your business credit and prepare for lender evaluation with more confidence\n\nThis webinar is part of the National Small Business Week Learning Lab\, happening May 6-7\, 2026\, featuring free educational content\, mentor connections\, and a community of entrepreneurs.\n\n\n\nRegister Online
X-ALT-DESC;FMTTYPE=text/html:<strong>&quot\;Business Credit 101: Build Credit\, Access Funding\, and Grow Your Business&quot\; Workshop<br />\n<br />\nWednesday\, May 6\, 2026\, 11 AM - 12 PM<br />\nFee: Free</strong><br />\n<br />\nBusiness credit can help you qualify for better financing\, strengthen your credibility\, and give your business more room to grow. Unlike personal credit\, business credit does not develop on its own. It requires the right structure\, intentional action\, and consistent financial habits<br />\n<br />\nIn this webinar\, you&rsquo\;ll learn how business credit works\, why it matters\, and what it takes to build it over time. We&rsquo\;ll walk through the key steps to help you establish a strong credit foundation\, build a credit history\, and improve your ability to qualify for funding in the future.<br />\n<br />\nWhat You&rsquo\;ll Learn:\n<ul>\n	<li>Understand the difference between a business credit profile and a business credit score</li>\n	<li>Learn how business credit differs from personal credit and why both can matter</li>\n	<li>Set up the right foundation to begin building business credit</li>\n	<li>Use trade relationships and payment habits to strengthen your credit profile</li>\n	<li>Manage credit utilization and understand how it impacts your score</li>\n	<li>Monitor your business credit and prepare for lender evaluation with more confidence</li>\n</ul>\nThis webinar is part of the&nbsp\;<a href="https://academy.score.org/program/nsbw-learning-lab?_gl=1*1vavkis*_gcl_au*MjEwNzM1NDY1OC4xNzcxOTY0Nzgz*_ga*MTkyODkwNTYyOC4xNzcxOTY0Nzgz*_ga_3LHXGY70TN*czE3NzcwMzgzNDkkbzQkZzEkdDE3NzcwMzkzOTQkajEwJGwwJGgw" target="_blank">National Small Business Week Learning Lab</a>\, happening May 6-7\, 2026\, featuring free educational content\, mentor connections\, and a community of entrepreneurs.<br />\n<br />\n<a href="https://www.score.org/event/business-credit-101-build-credit-access-funding-and-grow-your-business" target="_blank">Register Online</a>
LOCATION:Online Workshop
UID:e.1202.174075
SEQUENCE:3
DTSTAMP:20260424T191322Z
URL:https://business.cartersvillechamber.com/events/details/business-credit-101-online-workshop-174075
END:VEVENT

END:VCALENDAR
