BEGIN:VCALENDAR
VERSION:2.0
PRODID:-//ChamberMaster//Event Calendar 2.0//EN
METHOD:PUBLISH
X-PUBLISHED-TTL:P3D
REFRESH-INTERVAL:P3D
CALSCALE:GREGORIAN
BEGIN:VEVENT
DTSTART:20240424T170000Z
DTEND:20240424T180000Z
X-MICROSOFT-CDO-ALLDAYEVENT:FALSE
SUMMARY:Cancelled - Conversational Spanish
DESCRIPTION:This class is for people looking to practice their Spanish speaking skills. All levels welcome.
X-ALT-DESC;FMTTYPE=text/html:<span style="color:rgb(0\, 0\, 0)\; font-family:yacgeymkkbg 0\,_fb_\,auto\; font-size:12.8px">This class is for people looking to practice their Spanish speaking skills.</span><span style="color:rgb(0\, 0\, 0)\; font-family:yacgeymkkbg 0\,_fb_\,auto\; font-size:12.8px">&nbsp\;</span><span style="color:rgb(0\, 0\, 0)\; font-family:yacgeymkkbg 0\,_fb_\,auto\; font-size:12.8px">All levels welcome.</span>
LOCATION:Cartersville Public Library
UID:e.1202.164342
SEQUENCE:3
DTSTAMP:20260423T021440Z
URL:https://business.cartersvillechamber.com/events/details/cancelled-conversational-spanish-04-24-2024-164342
END:VEVENT

END:VCALENDAR
