BEGIN:VCALENDAR
VERSION:2.0
PRODID:-//ChamberMaster//Event Calendar 2.0//EN
METHOD:PUBLISH
X-PUBLISHED-TTL:P3D
REFRESH-INTERVAL:P3D
CALSCALE:GREGORIAN
BEGIN:VEVENT
DTSTART:20250730T140000Z
DTEND:20250730T180000Z
X-MICROSOFT-CDO-ALLDAYEVENT:FALSE
SUMMARY:Careers on Wheels
DESCRIPTION:Careers on Wheels\n\n\n\nWednesday\, July 30\, 2025\, 10 AM - 2 PM\n\n\n\nMeet the heroes\, explore the vehicles\, and build your own model car Careers on Wheels is your ticket to a day full of discovery and fun! Mark your calendars.\n\n\n\nGet up close and personal with the heroes on the road at Careers on Wheels! This event features local first responders\, including firetrucks\, ambulances\, police vehicles\, and more. Explore the vehicles\, learn about the vital roles these heroes play\, and enjoy an interactive experience that will inspire curiosity and appreciation for the services that keep us safe.\n\n\n\nDon't miss the opportunity to create make and take model cars with our special guest\, ACME (Atlanta Car Model Enthusiasts)!\n\n\n\nTickets:\n\nMuseum Members - Complimentary\n\nGeneral Public - Complimentary with museum admission
X-ALT-DESC;FMTTYPE=text/html:<strong>Careers on Wheels<br />\n<br />\nWednesday\, July 30\, 2025\, 10 AM - 2 PM</strong><br />\n<br />\nMeet the heroes\, explore the vehicles\, and build your own model car&mdash\;Careers on Wheels is your ticket to a day full of discovery and fun! Mark your calendars.<br />\n<br />\nGet up close and personal with the heroes on the road at Careers on Wheels! This event features local first responders\, including firetrucks\, ambulances\, police vehicles\, and more. Explore the vehicles\, learn about the vital roles these heroes play\, and enjoy an interactive experience that will inspire curiosity and appreciation for the services that keep us safe.<br />\n<br />\nDon&rsquo\;t miss the opportunity to create make and take model cars with our special guest\, ACME (Atlanta Car Model Enthusiasts)!<br />\n<br />\n<strong>Tickets:</strong><br />\n<strong>Museum Members </strong>- Complimentary<br />\n<strong>General Public </strong>- Complimentary with museum admission
LOCATION:Savoy Automobile Museum 3 Savoy Lane Cartersville\, GA 30120
UID:e.1202.171056
SEQUENCE:3
DTSTAMP:20260422T050124Z
URL:https://business.cartersvillechamber.com/events/details/careers-on-wheels-171056
END:VEVENT

END:VCALENDAR
