BEGIN:VCALENDAR
VERSION:2.0
PRODID:-//ChamberMaster//Event Calendar 2.0//EN
METHOD:PUBLISH
X-PUBLISHED-TTL:P3D
REFRESH-INTERVAL:P3D
CALSCALE:GREGORIAN
BEGIN:VEVENT
DTSTART:20251204T230000Z
DTEND:20251205T020000Z
X-MICROSOFT-CDO-ALLDAYEVENT:FALSE
SUMMARY:Cartersville Christmas Parade
DESCRIPTION:Shottenkirk Honda is proud to present the 2025 Cartersville Exchange Christmas Parade\, which will be held on December 4 starting at 6:00 PM. The rain date is the following Thursday (12/11/25) at 6:00 p.m.\n\n\n\nLine-up begins at 4:00 p.m. in the Tabernacle church parking lot. If you have multiple entries and you want them to stay together\, you should have them arrive at the lineup area together.\n\n\n\nThe parade route is the same as last year: Parade leaves Tabernacle parking lot\, turns right on Church St\, over the bridge\, left on Bartow St\, left on Main St.\, left on Stonewall St.\, left on Church St.\, right on Tennessee St\, left at Scott's BBQ and back into the parking lot.\n\n\n\nMore information can be found on the Cartersville Exchange website.
X-ALT-DESC;FMTTYPE=text/html:Shottenkirk Honda is proud to present the 2025 Cartersville Exchange Christmas Parade\, which will be held on December 4 starting at 6:00 PM. The rain date is the following Thursday (12/11/25) at 6:00 p.m.<br />\n<br />\nLine-up begins at 4:00 p.m. in the Tabernacle church parking lot. If you have multiple entries and you want them to stay together\, you should have them arrive at the lineup area together.<br />\n<br />\nThe parade route is the same as last year:&nbsp\;Parade leaves Tabernacle parking lot\, turns right on Church St\, over the bridge\, left on Bartow St\, left on Main St.\, left on Stonewall St.\, left on Church St.\, right on Tennessee St\, left at Scott&#39\;s BBQ and back into the parking lot.<br />\n<br />\nMore information can be found on the <a href="https://cartersvilleexchange.com/christmas-parade" target="_blank">Cartersville Exchange website</a>.
LOCATION:Downtown Cartersville
UID:e.1202.171990
SEQUENCE:3
DTSTAMP:20260421T214510Z
URL:https://business.cartersvillechamber.com/events/details/cartersville-christmas-parade-171990
END:VEVENT

END:VCALENDAR
