BEGIN:VCALENDAR
VERSION:2.0
PRODID:-//ChamberMaster//Event Calendar 2.0//EN
METHOD:PUBLISH
X-PUBLISHED-TTL:P3D
REFRESH-INTERVAL:P3D
CALSCALE:GREGORIAN
BEGIN:VEVENT
DTSTART:20240727T190000Z
DTEND:20240728T030000Z
X-MICROSOFT-CDO-ALLDAYEVENT:FALSE
SUMMARY:Cartersville Connected
DESCRIPTION:Cartersville Parks and Recreation plans to bring vendors and sponsors out to the park to advertise and network all while CPRD programs are taking place. During this event the park will have youth and adult sports tournaments going on as well as fishing\, memorial walks\, and a movie night.
X-ALT-DESC;FMTTYPE=text/html:Cartersville Parks and Recreation plans to bring vendors and sponsors out to the park to advertise and network all while CPRD programs are taking place. During this event the park will have youth and adult sports tournaments going on as well as fishing\, memorial walks\, and a movie night.
LOCATION:Dellinger Park 100 Pine Grove Road Cartersville\, Georgia\, 30120
UID:e.1202.165678
SEQUENCE:3
DTSTAMP:20260422T214037Z
URL:https://business.cartersvillechamber.com/events/details/cartersville-connected-165678
END:VEVENT

END:VCALENDAR
