BEGIN:VCALENDAR
VERSION:2.0
PRODID:-//ChamberMaster//Event Calendar 2.0//EN
METHOD:PUBLISH
X-PUBLISHED-TTL:P3D
REFRESH-INTERVAL:P3D
CALSCALE:GREGORIAN
BEGIN:VEVENT
DTSTART:20250704T200000Z
DTEND:20250705T020000Z
X-MICROSOFT-CDO-ALLDAYEVENT:FALSE
SUMMARY:Cartersville July 4th Celebration
DESCRIPTION:Cartersville July 4th Celebration\n\n\n\nFriday\, July 4th\, 2025\, 4 PM - 10 PM\n\nDellinger Park\n\n100 Pine Grove Road\, Cartersville\, GA 30120\n\n\n\nEnjoy a full evening of arts & crafts\, festival food\, kid-friendly activities\, a live concert\, and a spectacular fireworks show to close out the night.\n\nAdmission is free | Parking: $10.00\n\n\n\nThis event is produced by the Rotary Club of Etowah with special thanks to our presenting sponsors   Bartow County and the City of Cartersville - City Hall   for making this community tradition possible.\n\n\n\nMark your calendars and come celebrate Independence Day with us!
X-ALT-DESC;FMTTYPE=text/html:Cartersville July 4th Celebration<br />\n<br />\nFriday\, July 4th\, 2025\, 4 PM - 10 PM<br />\nDellinger Park<br />\n100 Pine Grove Road\, Cartersville\, GA 30120<br />\n<br />\nEnjoy a full evening of arts &amp\; crafts\, festival food\, kid-friendly activities\, a live concert\, and a spectacular fireworks show to close out the night.<br />\nAdmission is free | Parking: $10.00<br />\n<br />\nThis event is produced by the Rotary Club of Etowah with special thanks to our presenting sponsors &mdash\; Bartow County and the City of Cartersville - City Hall &mdash\; for making this community tradition possible.<br />\n<br />\nMark your calendars and come celebrate Independence Day with us!
LOCATION:Dellinger Park 100 Pine Grove Road Cartersville\, GA 30120
UID:e.1202.171045
SEQUENCE:3
DTSTAMP:20260422T050211Z
URL:https://business.cartersvillechamber.com/events/details/cartersville-july-4th-celebration-171045
END:VEVENT

END:VCALENDAR
