BEGIN:VCALENDAR
VERSION:2.0
PRODID:-//ChamberMaster//Event Calendar 2.0//EN
METHOD:PUBLISH
X-PUBLISHED-TTL:P3D
REFRESH-INTERVAL:P3D
CALSCALE:GREGORIAN
BEGIN:VEVENT
DTSTART:20250606T210000Z
DTEND:20250607T010000Z
X-MICROSOFT-CDO-ALLDAYEVENT:FALSE
SUMMARY:Cartersville's Half Birthday Bash!
DESCRIPTION:We're halfway through our 175th anniversary year   and it's time to celebrate again! Join us Friday\, June 6 at the Dellinger Park football field for a fun-filled evening with the launch of our 175th Anniversary Book\, a .5k Fun Run for kids\, live music\, family games\, and more. \n\n \n\nWhether you're running the tiniest race in town or turning the pages of Cartersville's incredible story\, this bash is about bringing the community together again to honor the past\, celebrate the present\, and look forward to the future.
X-ALT-DESC;FMTTYPE=text/html:<p><strong>We&rsquo\;re halfway through our 175th anniversary year &mdash\; and it&rsquo\;s time to celebrate again! Join us </strong><strong>Friday\, June 6 at the Dellinger Park football field</strong><strong> for a fun-filled evening with the launch of our 175th Anniversary Book\, a .5k Fun Run for kids\, live music\, family games\, and more.</strong><strong> </strong></p>\n\n<p>&nbsp\;</p>\n\n<p><strong>Whether you&#39\;re running the tiniest race in town or turning the pages of Cartersville&rsquo\;s incredible story\, this bash is about bringing the community together again to honor the past\, celebrate the present\, and look forward to the future.</strong></p>\n
LOCATION:Dellinger Park Football Field
UID:e.1202.170969
SEQUENCE:3
DTSTAMP:20260422T062257Z
URL:https://business.cartersvillechamber.com/events/details/cartersville-s-half-birthday-bash-170969
END:VEVENT

END:VCALENDAR
