BEGIN:VCALENDAR
VERSION:2.0
PRODID:-//ChamberMaster//Event Calendar 2.0//EN
METHOD:PUBLISH
X-PUBLISHED-TTL:P3D
REFRESH-INTERVAL:P3D
CALSCALE:GREGORIAN
BEGIN:VEVENT
DTSTART:20260215T000000Z
DTEND:20260215T040000Z
X-MICROSOFT-CDO-ALLDAYEVENT:FALSE
SUMMARY:Casino Night-Sixes Tavern
DESCRIPTION:Sixes Tavern is bringing Las Vegas to Cartersville! Come join us for Casino Night! This night is about helping pets at the Etowah Valley Humane Society! There will be a Silent Auction\, Live DJ\, Raffles\, Giveaways & MORE!
X-ALT-DESC;FMTTYPE=text/html:Sixes Tavern is bringing Las Vegas to Cartersville! Come join us for Casino Night! This night is about helping pets at the Etowah Valley Humane Society! There will be a Silent Auction\, Live DJ\, Raffles\, Giveaways &amp\; MORE!
LOCATION:650 Henderson Dr Cartersville\, Ga 30120
UID:e.1202.173572
SEQUENCE:3
DTSTAMP:20260421T174601Z
URL:https://business.cartersvillechamber.com/events/details/casino-night-sixes-tavern-02-14-2026-173572
END:VEVENT

END:VCALENDAR
