BEGIN:VCALENDAR
VERSION:2.0
PRODID:-//ChamberMaster//Event Calendar 2.0//EN
METHOD:PUBLISH
X-PUBLISHED-TTL:P3D
REFRESH-INTERVAL:P3D
CALSCALE:GREGORIAN
BEGIN:VEVENT
DTSTART:20240518T130000Z
DTEND:20240518T200000Z
X-MICROSOFT-CDO-ALLDAYEVENT:FALSE
SUMMARY:CAW 2nd Annual Spring Conference
DESCRIPTION:Please join your fellow chamber members\, Cartersville Area Writers Group\, as we bring our 2nd annual conference to the Chamber on May 18. We will have 5 speakers\, a silent auction\, breakfast with coffee provided by Noble and Main\, lunch (with trivia) catered by Southern Comforts Catering! Additionally\, our speakers will be selling and signing books throughout the day. Join us and/or help spread the word! We are a nonprofit\, and still open to sponsorships and bag swag as well as silent auction items for those of you who can't attend but would like to contribute. Tickets can be purchased from our website.
X-ALT-DESC;FMTTYPE=text/html:Please join your fellow chamber members\, Cartersville Area Writers Group\, as we bring our 2nd annual conference to the Chamber on May 18. We will have 5 speakers\, a silent auction\, breakfast with coffee provided by Noble and Main\, lunch (with trivia) catered by Southern Comforts Catering! Additionally\, our speakers will be selling and signing books throughout the day. Join us and/or help spread the word! We are a nonprofit\, and still open to sponsorships and bag swag as well as silent auction items for those of you who can&#39\;t attend but would like to contribute. Tickets can be purchased from our website.
LOCATION:Cartersville-Bartow County Chamber of Commerce
UID:e.1202.164809
SEQUENCE:3
DTSTAMP:20260423T003909Z
URL:https://business.cartersvillechamber.com/events/details/caw-2nd-annual-spring-conference-164809
END:VEVENT

END:VCALENDAR
