BEGIN:VCALENDAR
VERSION:2.0
PRODID:-//ChamberMaster//Event Calendar 2.0//EN
METHOD:PUBLISH
X-PUBLISHED-TTL:P3D
REFRESH-INTERVAL:P3D
CALSCALE:GREGORIAN
BEGIN:VEVENT
DTSTART:20240909T130000Z
DTEND:20240909T200000Z
X-MICROSOFT-CDO-ALLDAYEVENT:FALSE
SUMMARY:Certified Nursing Assistant (Through 10/30/24)
DESCRIPTION:The Certified Nursing Assistant (CNA) program is designed to equip aspiring healthcare students with the essential skills required to support individuals in maintaining their optimal health.\n\n\n\nGeorgia Highlands College offers the Certified Nursing Assistant Certificate program thru the Center for Continuing and Professional Education. This comprehensive course integrates classroom instruction\, hands-on lab experiences\, and clinical practice. Classes will take place at the Bartow County College and Career Academy in Cartersville\, GA. Successful completion of the program qualifies students to sit for the State of Georgia CNA Certification exam.\n\n\n\nThe course follows the federally mandated guidelines set by the Nursing Home Reform Act of 1987 for nursing assistants working in long-term care under direction of a Licensed Nurse to provide assistance with the activities of daily living. Communications\, clinical competency\, and developing the ability to work as a member of a team are key components of the course. Supervised practice in campus and community facilities is also used to develop basic nursing skills.
X-ALT-DESC;FMTTYPE=text/html:The Certified Nursing Assistant (CNA) program is designed to equip aspiring healthcare students with the essential skills required to support individuals in maintaining their optimal health.<br />\n<br />\nGeorgia Highlands College offers the Certified Nursing Assistant Certificate program thru the Center for Continuing and Professional Education. This comprehensive course integrates classroom instruction\, hands-on lab experiences\, and clinical practice. Classes will take place at the Bartow County College and Career Academy in Cartersville\, GA. Successful completion of the program qualifies students to sit for the State of Georgia CNA Certification exam.<br />\n<br />\nThe course follows the federally mandated guidelines set by the Nursing Home Reform Act of 1987 for nursing assistants working in long-term care under direction of a Licensed Nurse to provide assistance with the activities of daily living. Communications\, clinical competency\, and developing the ability to work as a member of a team are key components of the course. Supervised practice in campus and community facilities is also used to develop basic nursing skills.
LOCATION:GHC Cartersville Campus
UID:e.1202.166149
SEQUENCE:3
DTSTAMP:20260422T185357Z
URL:https://business.cartersvillechamber.com/events/details/certified-nursing-assistant-through-10-30-24-166149
END:VEVENT

END:VCALENDAR
