BEGIN:VCALENDAR
VERSION:2.0
PRODID:-//ChamberMaster//Event Calendar 2.0//EN
METHOD:PUBLISH
X-PUBLISHED-TTL:P3D
REFRESH-INTERVAL:P3D
CALSCALE:GREGORIAN
BEGIN:VEVENT
DTSTART:20260106T140000Z
DTEND:20260106T210000Z
X-MICROSOFT-CDO-ALLDAYEVENT:FALSE
SUMMARY:Certified Nursing Assistant (Through 2/26/26)
DESCRIPTION:Launch your healthcare career with the Certified Nursing Assistant (CNA) Certificate Program. This comprehensive program combines classroom learning\, hands-on lab practice\, and real-world clinical experience. Upon successful completion\, you'll be eligible to take the State of Georgia CNA Certification exam. This program is ideal for those seeking entry into the medical field\, aspiring nurses or physician assistants\, or anyone wanting to develop essential patient care skills.
X-ALT-DESC;FMTTYPE=text/html:Launch your healthcare career with the Certified Nursing Assistant (CNA) Certificate Program. This comprehensive program combines classroom learning\, hands-on lab practice\, and real-world clinical experience. Upon successful completion\, you&#39\;ll be eligible to take the State of Georgia CNA Certification exam. This program is ideal for those seeking entry into the medical field\, aspiring nurses or physician assistants\, or anyone wanting to develop essential patient care skills.
LOCATION:GHC Cartersville Campus
UID:e.1202.171856
SEQUENCE:3
DTSTAMP:20260421T201516Z
URL:https://business.cartersvillechamber.com/events/details/certified-nursing-assistant-through-2-26-26-171856
END:VEVENT

END:VCALENDAR
