BEGIN:VCALENDAR
VERSION:2.0
PRODID:-//ChamberMaster//Event Calendar 2.0//EN
METHOD:PUBLISH
X-PUBLISHED-TTL:P3D
REFRESH-INTERVAL:P3D
CALSCALE:GREGORIAN
BEGIN:VEVENT
DTSTART:20250106T140000Z
DTEND:20250106T210000Z
X-MICROSOFT-CDO-ALLDAYEVENT:FALSE
SUMMARY:Certified Nursing Assistant (Through 3/3/25)
DESCRIPTION:Georgia Highlands College offers the Certified Nursing Assistant Certificate Program through the Center for Continuing and Professional Education. This comprehensive course integrates classroom instruction\, hands-on lab experiences\, and clinical practice. Classes will take place at the GHC Cartersville Campus. Successful completion of the program qualifies students to sit for the State of Georgia CNA Certification exam.
X-ALT-DESC;FMTTYPE=text/html:Georgia Highlands College offers the Certified Nursing Assistant Certificate Program through the Center for Continuing and Professional Education. This comprehensive course integrates classroom instruction\, hands-on lab experiences\, and clinical practice. Classes will take place at the GHC Cartersville Campus. Successful completion of the program qualifies students to sit for the State of Georgia CNA Certification exam.
LOCATION:GHC Cartersville Campus
UID:e.1202.167614
SEQUENCE:3
DTSTAMP:20260422T130143Z
URL:https://business.cartersvillechamber.com/events/details/certified-nursing-assistant-through-3-3-25-167614
END:VEVENT

END:VCALENDAR
