BEGIN:VCALENDAR
VERSION:2.0
PRODID:-//ChamberMaster//Event Calendar 2.0//EN
METHOD:PUBLISH
X-PUBLISHED-TTL:P3D
REFRESH-INTERVAL:P3D
CALSCALE:GREGORIAN
BEGIN:VEVENT
DTSTART:20251221T000000Z
DTEND:20251221T030000Z
X-MICROSOFT-CDO-ALLDAYEVENT:FALSE
SUMMARY:Christmas Back Home
DESCRIPTION:Your #1 Holiday Music Experience - Christmas Back Home - is returning to the Grand Theatre. Join us for a night to remember\, December 20th at 7pm. Get your tickets today!
X-ALT-DESC;FMTTYPE=text/html:Your #1 Holiday Music Experience - Christmas Back Home - is returning to the Grand Theatre. Join us for a night to remember\, December 20th at 7pm. Get your tickets today!
LOCATION:Grand Theatre
UID:e.1202.172142
SEQUENCE:3
DTSTAMP:20260421T214739Z
URL:https://business.cartersvillechamber.com/events/details/christmas-back-home-12-20-2025-172142
END:VEVENT

END:VCALENDAR
