BEGIN:VCALENDAR
VERSION:2.0
PRODID:-//ChamberMaster//Event Calendar 2.0//EN
METHOD:PUBLISH
X-PUBLISHED-TTL:P3D
REFRESH-INTERVAL:P3D
CALSCALE:GREGORIAN
BEGIN:VEVENT
DTSTART:20241202T210000Z
DTEND:20241203T010000Z
X-MICROSOFT-CDO-ALLDAYEVENT:FALSE
SUMMARY:Christmas on the Square
DESCRIPTION:Christmas on the Square\n\n\n\nMonday\, December 2\, 2024\n\n4 PM - 8 PM\, Parade at 6 PM\n\nHistoric Downtown Adairsville\n\n\n\nFree Admission\n\n\n\nMake sure to join us Monday\, December 2nd from 4:00 p.m. - 8:00 p.m. for Christmas on the Square. We will have kids craft and s'mores stations\, hot chocolate\, the Adairsville Elementary School Chorus will perform at 5:30 p.m. at the gazebo\, parade at 6:00 p.m.\, lighting of the Christmas Tree\, and free photos with Santa at the Depot. The Adairsville Lions Club will also have hot dogs\, water\, and scarves.
X-ALT-DESC;FMTTYPE=text/html:Christmas on the Square<br />\n<br />\nMonday\, December 2\, 2024<br />\n4 PM - 8 PM\, Parade at 6 PM<br />\nHistoric Downtown Adairsville<br />\n<br />\nFree Admission<br />\n<br />\nMake sure to join us Monday\, December 2nd from 4:00 p.m. - 8:00 p.m. for Christmas on the Square. We will have kids craft and s&#39\;mores stations\, hot chocolate\, the Adairsville Elementary School Chorus will perform at 5:30 p.m. at the gazebo\, parade at 6:00 p.m.\, lighting of the Christmas Tree\, and free photos with Santa at the Depot. The Adairsville Lions Club will also have hot dogs\, water\, and scarves.
LOCATION:Historic Downtown Adairsville 116 Public Square Adairsville\, GA 30103
UID:e.1202.167557
SEQUENCE:3
DTSTAMP:20260422T143812Z
URL:https://business.cartersvillechamber.com/events/details/christmas-on-the-square-167557
END:VEVENT

END:VCALENDAR
