BEGIN:VCALENDAR
VERSION:2.0
PRODID:-//ChamberMaster//Event Calendar 2.0//EN
METHOD:PUBLISH
X-PUBLISHED-TTL:P3D
REFRESH-INTERVAL:P3D
CALSCALE:GREGORIAN
BEGIN:VEVENT
DTSTART:20240814T110000Z
DTEND:20240814T123000Z
X-MICROSOFT-CDO-ALLDAYEVENT:FALSE
SUMMARY:Coffee with a Cop
DESCRIPTION:Coffee with a Cop\n\n\n\nWednesday\, August 14\, 2024\, 7:00 AM - 8:30 AM\n\nAdairsville Coffee Co.\, 6365 Joe Frank Harris Pkwy NW\n\n\n\nCome have a coffee and conversation with our local law enforcement!
X-ALT-DESC;FMTTYPE=text/html:<strong><span style="font-size:18px\;">Coffee with a Cop</span><br />\n<br />\nWednesday\, August 14\, 2024\, 7:00 AM - 8:30 AM<br />\nAdairsville Coffee Co.</strong>\, 6365 Joe Frank Harris Pkwy NW<br />\n<br />\nCome have a coffee and conversation with our local law enforcement!
LOCATION:Adairsville Coffee Co.\, 6365 Joe Frank Harris Pkwy NW
UID:e.1202.166167
SEQUENCE:3
DTSTAMP:20260422T201647Z
URL:https://business.cartersvillechamber.com/events/details/coffee-with-a-cop-166167
END:VEVENT

END:VCALENDAR
