BEGIN:VCALENDAR
VERSION:2.0
PRODID:-//ChamberMaster//Event Calendar 2.0//EN
METHOD:PUBLISH
X-PUBLISHED-TTL:P3D
REFRESH-INTERVAL:P3D
CALSCALE:GREGORIAN
BEGIN:VEVENT
DTSTART:20250416T190000Z
DTEND:20250416T210000Z
X-MICROSOFT-CDO-ALLDAYEVENT:FALSE
SUMMARY:Coffee with a Cop
DESCRIPTION:Coffee with a Cop\n\n\n\nWednesday\, April 16\, 2025\, 3:00 PM - 5:00 PM\n\nAdairsville Coffee Co.\, 6365 Joe Frank Harris Pkwy NW\n\n\n\nCome have a coffee and conversation with our local law enforcement! Ask questions\, speak about concerns\, and just get to know our local law enforcement.
X-ALT-DESC;FMTTYPE=text/html:<strong><span style="font-size:18px\;">Coffee with a Cop</span><br />\n<br />\nWednesday\, April 16\, 2025\, 3:00 PM - 5:00 PM<br />\nAdairsville Coffee Co.</strong>\, 6365 Joe Frank Harris Pkwy NW<br />\n<br />\nCome have a coffee and conversation with our local law enforcement! Ask questions\, speak about concerns\, and just get to know our local law enforcement.
LOCATION:Adairsville Coffee Co.\, 6365 Joe Frank Harris Pkwy NW
UID:e.1202.170664
SEQUENCE:3
DTSTAMP:20260422T091132Z
URL:https://business.cartersvillechamber.com/events/details/coffee-with-a-cop-170664
END:VEVENT

END:VCALENDAR
