BEGIN:VCALENDAR
VERSION:2.0
PRODID:-//ChamberMaster//Event Calendar 2.0//EN
METHOD:PUBLISH
X-PUBLISHED-TTL:P3D
REFRESH-INTERVAL:P3D
CALSCALE:GREGORIAN
BEGIN:VEVENT
DTSTART:20250813T110000Z
DTEND:20250813T123000Z
X-MICROSOFT-CDO-ALLDAYEVENT:FALSE
SUMMARY:Coffee with a Cop
DESCRIPTION:Coffee with a Cop\n\n\n\nWednesday\, August 13\, 2025\, 7:00 AM - 8:30 AM\n\nAdairsville Coffee Co.\n\n6365 Joe Frank Harris Pkwy NW\, Adairsville\, GA 30103\n\n\n\nChief Mike Jones invites you to come by to have coffee with our Adairsville Police Department. Ask questions\, speak about concerns\, and just get to know our local law enforcement.
X-ALT-DESC;FMTTYPE=text/html:<strong><span style="font-size:18px\;">Coffee with a Cop</span><br />\n<br />\nWednesday\, August 13\, 2025\, 7:00 AM - 8:30 AM<br />\nAdairsville Coffee Co.</strong><br />\n6365 Joe Frank Harris Pkwy NW\, Adairsville\, GA 30103<br />\n<br />\nChief Mike Jones invites you to come by to have coffee with our Adairsville Police Department. Ask questions\, speak about concerns\, and just get to know our local law enforcement.
LOCATION:Adairsville Coffee Co. 6365 Joe Frank Harris Pkwy NW Adairsville\, GA 30103
UID:e.1202.171583
SEQUENCE:3
DTSTAMP:20260422T032648Z
URL:https://business.cartersvillechamber.com/events/details/coffee-with-a-cop-171583
END:VEVENT

END:VCALENDAR
