BEGIN:VCALENDAR
VERSION:2.0
PRODID:-//ChamberMaster//Event Calendar 2.0//EN
METHOD:PUBLISH
X-PUBLISHED-TTL:P3D
REFRESH-INTERVAL:P3D
CALSCALE:GREGORIAN
BEGIN:VEVENT
DTSTART:20251215T213000Z
DTEND:20251215T220000Z
X-MICROSOFT-CDO-ALLDAYEVENT:FALSE
SUMMARY:Color Your World: Featuring Middle School Artists
DESCRIPTION:Join us December 15th at 4:30pm at Hamilton Crossing Park as we unveil COLOR YOUR WORLD. This latest partnership with Bartow County Water and Fire features middle school artists! Meet the artists\, take the tour of eight hand painted fire hydrants\, and celebrate the arts in Bartow County!  Learn more.
X-ALT-DESC;FMTTYPE=text/html:Join us December 15th at 4:30pm at Hamilton Crossing Park as we unveil COLOR YOUR WORLD. This latest partnership with Bartow County Water and Fire features middle school artists! Meet the artists\, take the tour of eight hand painted fire hydrants\, and celebrate the arts in Bartow County!&nbsp\; <a href="https://www.artinbartow.com/coloryourworld" target="_blank">Learn more</a>.
LOCATION:Hamilton Crossing Park
UID:e.1202.172141
SEQUENCE:3
DTSTAMP:20260421T214827Z
URL:https://business.cartersvillechamber.com/events/details/color-your-world-featuring-middle-school-artists-172141
END:VEVENT

END:VCALENDAR
