BEGIN:VCALENDAR
VERSION:2.0
PRODID:-//ChamberMaster//Event Calendar 2.0//EN
METHOD:PUBLISH
X-PUBLISHED-TTL:P3D
REFRESH-INTERVAL:P3D
CALSCALE:GREGORIAN
BEGIN:VEVENT
DTSTART:20250717T230000Z
DTEND:20250718T010000Z
X-MICROSOFT-CDO-ALLDAYEVENT:FALSE
SUMMARY:Comedy Night-Sixes Tavern
DESCRIPTION:**WARNING** May cause excessive laughter and sore abs! Join us for Comedy Night! Curtains open at 6:30pm for dinner service. Show starts at 7pm
X-ALT-DESC;FMTTYPE=text/html:**WARNING** May cause excessive laughter and sore abs! Join us for Comedy Night! Curtains open at 6:30pm for dinner service. Show starts at 7pm
LOCATION:650 Henderson Dr. Cartersville\, Ga 30120
UID:e.1202.170982
SEQUENCE:3
DTSTAMP:20260422T050129Z
URL:https://business.cartersvillechamber.com/events/details/comedy-night-sixes-tavern-170982
END:VEVENT

END:VCALENDAR
