BEGIN:VCALENDAR
VERSION:2.0
PRODID:-//ChamberMaster//Event Calendar 2.0//EN
METHOD:PUBLISH
X-PUBLISHED-TTL:P3D
REFRESH-INTERVAL:P3D
CALSCALE:GREGORIAN
BEGIN:VEVENT
DTSTART:20251021T120000Z
DTEND:20251021T150000Z
X-MICROSOFT-CDO-ALLDAYEVENT:FALSE
SUMMARY:Communicating with Impact
DESCRIPTION:Customized for your front-line leaders\, our three-hour workshops are designed to provide essential skills for success. Presented in easily digestible segments\, these workshops concentrate on crucial abilities that deliver significant results without interrupting your team's daily workflow. This workshop focuses on developing your communication prowess\, a critical skill for any successful leader.
X-ALT-DESC;FMTTYPE=text/html:Customized for your front-line leaders\, our three-hour workshops are designed to provide essential skills for success. Presented in easily digestible segments\, these workshops concentrate on crucial abilities that deliver significant results without interrupting your team&rsquo\;s daily workflow. This workshop focuses on developing your communication prowess\, a critical skill for any successful leader.
LOCATION:GHC Cartersville Campus
UID:e.1202.171853
SEQUENCE:3
DTSTAMP:20260422T003708Z
URL:https://business.cartersvillechamber.com/events/details/communicating-with-impact-10-21-2025-171853
END:VEVENT

END:VCALENDAR
