BEGIN:VCALENDAR
VERSION:2.0
PRODID:-//ChamberMaster//Event Calendar 2.0//EN
METHOD:PUBLISH
X-PUBLISHED-TTL:P3D
REFRESH-INTERVAL:P3D
CALSCALE:GREGORIAN
BEGIN:VEVENT
DTSTART:20251114T160000Z
DTEND:20251114T170000Z
X-MICROSOFT-CDO-ALLDAYEVENT:FALSE
SUMMARY:Compass Coaching Course
DESCRIPTION:Knowing how to use a compass and a map is a GREAT skill for anyone to possess. Learn how to follow a bearing\, calculate distance\, and more. Get started early (or late!) learning valuable life skills. If this is something you would like to know how to do\, simply navigate your way to the Picnic Tables behind the Visitors Center!
X-ALT-DESC;FMTTYPE=text/html:Knowing how to use a compass and a map is a GREAT skill for anyone to possess. Learn how to follow a bearing\, calculate distance\, and more. Get started early (or late!) learning valuable life skills. If this is something you would like to know how to do\, simply navigate your way to the Picnic Tables behind the Visitors Center!
LOCATION:Red Top Mountain State Park 50 Lodge Rd Acworth\, GA
UID:e.1202.172032
SEQUENCE:3
DTSTAMP:20260421T230946Z
URL:https://business.cartersvillechamber.com/events/details/compass-coaching-course-11-14-2025-172032
END:VEVENT

END:VCALENDAR
