BEGIN:VCALENDAR
VERSION:2.0
PRODID:-//ChamberMaster//Event Calendar 2.0//EN
METHOD:PUBLISH
X-PUBLISHED-TTL:P3D
REFRESH-INTERVAL:P3D
CALSCALE:GREGORIAN
BEGIN:VEVENT
DTSTART:20250515T140000Z
DTEND:20250515T153000Z
X-MICROSOFT-CDO-ALLDAYEVENT:FALSE
SUMMARY:Computer Classes @ the Cartersville Library- Registration Required
DESCRIPTION:The Bartow County Library System offers free computer classes to the community. Classes take place in the computer lab at the Cartersville Library. Class size is limited as each student will have their own computer. Register on the website at bartowlibrary.org or give us a call at 770-382-4203. \n\nEach class works with a different aspect of computers.
X-ALT-DESC;FMTTYPE=text/html:The Bartow County Library System offers free computer classes to the community. Classes take place in the computer lab at the Cartersville Library. Class size is limited as each student will have their own computer. Register on the website at bartowlibrary.org or give us a call at 770-382-4203.&nbsp\;<br />\nEach class works with a different aspect of computers.&nbsp\;
LOCATION:Cartersville Library Computer Lab
UID:e.1202.170162
SEQUENCE:3
DTSTAMP:20260422T080606Z
URL:https://business.cartersvillechamber.com/events/details/computer-classes-the-cartersville-library-registration-required-05-15-2025-170162
END:VEVENT

END:VCALENDAR
