BEGIN:VCALENDAR
VERSION:2.0
PRODID:-//ChamberMaster//Event Calendar 2.0//EN
METHOD:PUBLISH
X-PUBLISHED-TTL:P3D
REFRESH-INTERVAL:P3D
CALSCALE:GREGORIAN
BEGIN:VEVENT
DTSTART:20240615T150000Z
DTEND:20240615T180000Z
X-MICROSOFT-CDO-ALLDAYEVENT:FALSE
SUMMARY:Construction Open House
DESCRIPTION:Construction Open House\n\n\n\nSaturday\, June 15\, 11 AM - 2 PM\n\n453 Sugar Valley Road\, Cartersville\, GA 30120\n\n\n\nINCENTIVE: $7000 towards a tile shower upgrade (does not include a door). Only available to customers who attend the open house.\n\n\n\nBrought to you by:\n\nAmerica's Home Place\n\nCalhoun Building Center\n\n(706) 629-8011\n\nAmericasHomePlace.com
X-ALT-DESC;FMTTYPE=text/html:<strong>Construction Open House</strong><br />\n<br />\nSaturday\, June 15\, 11 AM - 2 PM<br />\n453 Sugar Valley Road\, Cartersville\, GA 30120<br />\n<br />\n<strong>INCENTIVE: </strong>$7000 towards a tile shower upgrade (does not include a door). Only available to customers who attend the open house.<br />\n<br />\n<em><strong>Brought to you by:</strong></em><br />\nAmerica&#39\;s Home Place<br />\nCalhoun Building Center<br />\n(706) 629-8011<br />\n<a href="https://americashomeplace.com/" target="_blank">AmericasHomePlace.com</a>
LOCATION:Saturday\, June 15\, 2024 11 AM - 2 PM
UID:e.1202.165676
SEQUENCE:3
DTSTAMP:20260422T230514Z
URL:https://business.cartersvillechamber.com/events/details/construction-open-house-165676
END:VEVENT

END:VCALENDAR
