BEGIN:VCALENDAR
VERSION:2.0
PRODID:-//ChamberMaster//Event Calendar 2.0//EN
METHOD:PUBLISH
X-PUBLISHED-TTL:P3D
REFRESH-INTERVAL:P3D
CALSCALE:GREGORIAN
BEGIN:VEVENT
DTSTART:20240810T150000Z
DTEND:20240810T180000Z
X-MICROSOFT-CDO-ALLDAYEVENT:FALSE
SUMMARY:Construction Open House
DESCRIPTION:Construction Open House\n\n\n\nSaturday\, August 10\, 2024\, 11 AM - 2 PM\n\n1868 Hill City Road NW\, Resaca\, GA 30735\n\n\n\nJoin us for a Construction Open House of the Southampton A! This is your chance to connect with our knowledgeable team and see our craftmanship up close and personal. We can't wait to meet you!\n\n\n\nAmerica's Home Place - Calhoun Building Center\n\n(706) 629-8011\n\nAmericasHomePlace.com\n\n\n\nView event flyer.
X-ALT-DESC;FMTTYPE=text/html:Construction Open House<br />\n<br />\nSaturday\, August 10\, 2024\, 11 AM - 2 PM<br />\n1868 Hill City Road NW\,&nbsp\;Resaca\, GA 30735<br />\n<br />\nJoin us for a Construction Open House of the Southampton A! This is your chance to connect with our knowledgeable team and see our craftmanship up close and personal. We can&#39\;t wait to meet you!<br />\n<br />\nAmerica&#39\;s Home Place - Calhoun Building Center<br />\n(706) 629-8011<br />\n<a href="https://americashomeplace.com/" target="_blank">AmericasHomePlace.com</a><br />\n<br />\n<a href="https://chambermaster.blob.core.windows.net/userfiles/UserFiles/chambers/1202/File/Event_Docs/AHPConstructionOpenHouse2024.pdf" target="_blank">View event flyer</a>.
LOCATION:1868 Hill City Road NW Resaca\, GA 30735
UID:e.1202.166000
SEQUENCE:3
DTSTAMP:20260422T201643Z
URL:https://business.cartersvillechamber.com/events/details/construction-open-house-166000
END:VEVENT

END:VCALENDAR
